BEGIN:VCALENDAR
VERSION:2.0
PRODID:-//Vorlesungen Cybercrime - ECPv6.15.18//NONSGML v1.0//EN
CALSCALE:GREGORIAN
METHOD:PUBLISH
X-WR-CALNAME:Vorlesungen Cybercrime
X-ORIGINAL-URL:https://www.cybercrimelaw.de
X-WR-CALDESC:Veranstaltungen für Vorlesungen Cybercrime
REFRESH-INTERVAL;VALUE=DURATION:PT1H
X-Robots-Tag:noindex
X-PUBLISHED-TTL:PT1H
BEGIN:VTIMEZONE
TZID:Europe/Berlin
BEGIN:DAYLIGHT
TZOFFSETFROM:+0100
TZOFFSETTO:+0200
TZNAME:CEST
DTSTART:20240331T010000
END:DAYLIGHT
BEGIN:STANDARD
TZOFFSETFROM:+0200
TZOFFSETTO:+0100
TZNAME:CET
DTSTART:20241027T010000
END:STANDARD
BEGIN:DAYLIGHT
TZOFFSETFROM:+0100
TZOFFSETTO:+0200
TZNAME:CEST
DTSTART:20250330T010000
END:DAYLIGHT
BEGIN:STANDARD
TZOFFSETFROM:+0200
TZOFFSETTO:+0100
TZNAME:CET
DTSTART:20251026T010000
END:STANDARD
BEGIN:DAYLIGHT
TZOFFSETFROM:+0100
TZOFFSETTO:+0200
TZNAME:CEST
DTSTART:20260329T010000
END:DAYLIGHT
BEGIN:STANDARD
TZOFFSETFROM:+0200
TZOFFSETTO:+0100
TZNAME:CET
DTSTART:20261025T010000
END:STANDARD
END:VTIMEZONE
BEGIN:VEVENT
DTSTART;VALUE=DATE:20250424
DTEND;VALUE=DATE:20250427
DTSTAMP:20260425T214733
CREATED:20250105T165625Z
LAST-MODIFIED:20250105T165625Z
UID:31501-1745452800-1745711999@www.cybercrimelaw.de
SUMMARY:Vorlesung Internetrecht
DESCRIPTION:Die Vorlesung Internetrecht (zusammen mit David Rosenthal) findet in diesem Jahr statt am \n\nDonnerstag\, 24. April 2025\nFreitag\, 25. April 2025\nSamstag\, 26. April 2025\n\nNähere Details zu den Räumlichkeiten werden rechtzeitig vor Beginn bekannt gegeben.
URL:https://www.cybercrimelaw.de/event/vorlesung-internetrecht/
LOCATION:Universität Basel\, Peter Merian-Weg 6\, Basel\, Basel\, 4002\, Schweiz
CATEGORIES:Vorlesung
ATTACH;FMTTYPE=image/jpeg:https://www.cybercrimelaw.de/wp-content/uploads/2019/11/27527358752_7bb3e369fa_k-e1573309067493.jpg
END:VEVENT
END:VCALENDAR